BEGIN:VCALENDAR
VERSION:2.0
PRODID:-//Le Pipistrelle - ECPv6.15.20//NONSGML v1.0//EN
CALSCALE:GREGORIAN
METHOD:PUBLISH
X-ORIGINAL-URL:https://www.lepipistrelle.ch
X-WR-CALDESC:Veranstaltungen für Le Pipistrelle
REFRESH-INTERVAL;VALUE=DURATION:PT1H
X-Robots-Tag:noindex
X-PUBLISHED-TTL:PT1H
BEGIN:VTIMEZONE
TZID:Europe/Berlin
BEGIN:DAYLIGHT
TZOFFSETFROM:+0100
TZOFFSETTO:+0200
TZNAME:CEST
DTSTART:20240331T010000
END:DAYLIGHT
BEGIN:STANDARD
TZOFFSETFROM:+0200
TZOFFSETTO:+0100
TZNAME:CET
DTSTART:20241027T010000
END:STANDARD
BEGIN:DAYLIGHT
TZOFFSETFROM:+0100
TZOFFSETTO:+0200
TZNAME:CEST
DTSTART:20250330T010000
END:DAYLIGHT
BEGIN:STANDARD
TZOFFSETFROM:+0200
TZOFFSETTO:+0100
TZNAME:CET
DTSTART:20251026T010000
END:STANDARD
BEGIN:DAYLIGHT
TZOFFSETFROM:+0100
TZOFFSETTO:+0200
TZNAME:CEST
DTSTART:20260329T010000
END:DAYLIGHT
BEGIN:STANDARD
TZOFFSETFROM:+0200
TZOFFSETTO:+0100
TZNAME:CET
DTSTART:20261025T010000
END:STANDARD
BEGIN:DAYLIGHT
TZOFFSETFROM:+0100
TZOFFSETTO:+0200
TZNAME:CEST
DTSTART:20270328T010000
END:DAYLIGHT
BEGIN:STANDARD
TZOFFSETFROM:+0200
TZOFFSETTO:+0100
TZNAME:CET
DTSTART:20271031T010000
END:STANDARD
END:VTIMEZONE
BEGIN:VEVENT
DTSTART;TZID=Europe/Berlin:20260304T200000
DTEND;TZID=Europe/Berlin:20260304T210000
DTSTAMP:20260424T134303
CREATED:20260216T212819Z
LAST-MODIFIED:20260216T213000Z
UID:2352-1772654400-1772658000@www.lepipistrelle.ch
SUMMARY:le pipistrelle bei der hv des Frauenvereins Worb
DESCRIPTION:
URL:https://www.lepipistrelle.ch/auftritt/le-pipistrelle-bei-der-hv-des-frauenvereins-worb/
LOCATION:reformiertes Kirchgemeindehaus Worb\, Bühliweg 1\, Worb\, 3076\, Switzerland
CATEGORIES:Vereinsanlass
ATTACH;FMTTYPE=image/png:https://www.lepipistrelle.ch/wp-content/uploads/2026/02/Bildschirmfoto-2026-02-16-um-22.08.11.png
END:VEVENT
BEGIN:VEVENT
DTSTART;TZID=Europe/Berlin:20260221T230000
DTEND;TZID=Europe/Berlin:20260221T234500
DTSTAMP:20260424T134303
CREATED:20260116T203753Z
LAST-MODIFIED:20260116T204412Z
UID:2327-1771714800-1771717500@www.lepipistrelle.ch
SUMMARY:le pipistrelle im schnuderchäller u abtanze
DESCRIPTION:
URL:https://www.lepipistrelle.ch/auftritt/le-pipistrelle-im-schnuderchaeller-u-abtanze-adieu-gabi/
LOCATION:Schnuderchäller\, Postgasse 60\, Bern\, 3011\, Schweiz
CATEGORIES:Fasnacht
ATTACH;FMTTYPE=image/jpeg:https://www.lepipistrelle.ch/wp-content/uploads/2024/03/DSC03188-scaled-e1768595854784.jpg
END:VEVENT
BEGIN:VEVENT
DTSTART;TZID=Europe/Berlin:20260221T220000
DTEND;TZID=Europe/Berlin:20260221T223000
DTSTAMP:20260424T134303
CREATED:20260116T203453Z
LAST-MODIFIED:20260116T203453Z
UID:2325-1771711200-1771713000@www.lepipistrelle.ch
SUMMARY:le pipistrelle im Klötzlikeller
DESCRIPTION:
URL:https://www.lepipistrelle.ch/auftritt/le-pipistrelle-im-kloetzlikeller-4/
LOCATION:Klötzlikeller\, Gerechtigkeitsgasse 62\, Bern\, 3011\, Schweiz
CATEGORIES:Fasnacht
ATTACH;FMTTYPE=image/jpeg:https://www.lepipistrelle.ch/wp-content/uploads/2026/01/DSC02943-scaled-e1768585144649.jpg
END:VEVENT
BEGIN:VEVENT
DTSTART;TZID=Europe/Berlin:20260221T213000
DTEND;TZID=Europe/Berlin:20260221T220000
DTSTAMP:20260424T134303
CREATED:20260116T203301Z
LAST-MODIFIED:20260116T203301Z
UID:2323-1771709400-1771711200@www.lepipistrelle.ch
SUMMARY:le pipistrelle im MutzONOchäller
DESCRIPTION:
URL:https://www.lepipistrelle.ch/auftritt/le-pipistrelle-im-mutzonochaeller/
LOCATION:ONO das Kulturlokal\, Kramgasse 6\, Bern\, 30122
CATEGORIES:Fasnacht
ATTACH;FMTTYPE=image/jpeg:https://www.lepipistrelle.ch/wp-content/uploads/2026/01/Foto-15.02.24-17-59-28-scaled-e1768585200253.jpg
END:VEVENT
BEGIN:VEVENT
DTSTART;TZID=Europe/Berlin:20260221T203000
DTEND;TZID=Europe/Berlin:20260221T210000
DTSTAMP:20260424T134303
CREATED:20260116T203035Z
LAST-MODIFIED:20260116T203035Z
UID:2321-1771705800-1771707600@www.lepipistrelle.ch
SUMMARY:le pipistrelle im fasnachtschäller
DESCRIPTION:
URL:https://www.lepipistrelle.ch/auftritt/le-pipistrelle-im-fasnachtschaeller-7/
LOCATION:Fasnachtskeller\, Gerechtigkeitsgasse 61\, Bern\, BE\, 3011\, Schweiz
CATEGORIES:Fasnacht
ATTACH;FMTTYPE=image/jpeg:https://www.lepipistrelle.ch/wp-content/uploads/2025/03/a1ad3420-fabd-4ab5-b7ad-45b8cb330be0-e1768595400827.jpg
END:VEVENT
BEGIN:VEVENT
DTSTART;TZID=Europe/Berlin:20260221T193000
DTEND;TZID=Europe/Berlin:20260221T200000
DTSTAMP:20260424T134303
CREATED:20260116T182735Z
LAST-MODIFIED:20260116T202748Z
UID:2319-1771702200-1771704000@www.lepipistrelle.ch
SUMMARY:le pipistrelle ir brasserie ratskeller
DESCRIPTION:
URL:https://www.lepipistrelle.ch/auftritt/le-pipistrelle-ir-brasserie-ratskeller/
LOCATION:Brasserie Ratskeller\, Gerechtigkeitsgasse 81\, Bern\, Bern
CATEGORIES:Fasnacht
ATTACH;FMTTYPE=image/jpeg:https://www.lepipistrelle.ch/wp-content/uploads/2026/01/Foto-15.02.24-17-59-28-scaled-e1768585200253.jpg
END:VEVENT
BEGIN:VEVENT
DTSTART;TZID=Europe/Berlin:20260221T143000
DTEND;TZID=Europe/Berlin:20260221T160000
DTSTAMP:20260424T134303
CREATED:20260116T182544Z
LAST-MODIFIED:20260116T182544Z
UID:2317-1771684200-1771689600@www.lepipistrelle.ch
SUMMARY:le pipistrelle am umzug mit startnummer 8
DESCRIPTION:
URL:https://www.lepipistrelle.ch/auftritt/le-pipistrelle-am-umzug-mit-startnummer-8/
LOCATION:Altstadt Bern\, Nydeggstalden\, Gerechtigkeitsgasse\, Kramgasse\, Bundesplatz\, Bern\, 3011
CATEGORIES:Fasnacht
ATTACH;FMTTYPE=image/jpeg:https://www.lepipistrelle.ch/wp-content/uploads/2025/03/add98891-5cfd-49dc-8521-acd09496eab8-e1768587913918.jpg
END:VEVENT
BEGIN:VEVENT
DTSTART;TZID=Europe/Berlin:20260221T103000
DTEND;TZID=Europe/Berlin:20260221T110000
DTSTAMP:20260424T134303
CREATED:20260116T205100Z
LAST-MODIFIED:20260116T205100Z
UID:2314-1771669800-1771671600@www.lepipistrelle.ch
SUMMARY:le pipistrelle ar stille fasnacht kramgasse 66 loubeboge
DESCRIPTION:
URL:https://www.lepipistrelle.ch/auftritt/le-pipistrelle-ar-stille-fasnacht-kramgasse-66-loubeboge-3/
LOCATION:Laubenbogen Kramgasse 66\, Kramgasse 66\, Bern\, 3011\, Schweiz
CATEGORIES:Fasnacht
ATTACH;FMTTYPE=image/jpeg:https://www.lepipistrelle.ch/wp-content/uploads/2026/01/WhatsApp-Image-2025-12-14-at-19.37.37-e1768596649340.jpeg
END:VEVENT
BEGIN:VEVENT
DTSTART;TZID=Europe/Berlin:20260220T221500
DTEND;TZID=Europe/Berlin:20260220T230000
DTSTAMP:20260424T134303
CREATED:20260116T180715Z
LAST-MODIFIED:20260116T180715Z
UID:2311-1771625700-1771628400@www.lepipistrelle.ch
SUMMARY:le pipistrelle im schnuderchäller
DESCRIPTION:
URL:https://www.lepipistrelle.ch/auftritt/le-pipistrelle-im-schnuderchaeller-7/
LOCATION:Schnuderchäller\, Postgasse 60\, Bern\, 3011\, Schweiz
CATEGORIES:Fasnacht
ATTACH;FMTTYPE=image/jpeg:https://www.lepipistrelle.ch/wp-content/uploads/2024/03/DSC03170-1-scaled-e1768586795150.jpg
END:VEVENT
BEGIN:VEVENT
DTSTART;TZID=Europe/Berlin:20260220T210000
DTEND;TZID=Europe/Berlin:20260220T213000
DTSTAMP:20260424T134303
CREATED:20260116T180743Z
LAST-MODIFIED:20260116T180743Z
UID:2309-1771621200-1771623000@www.lepipistrelle.ch
SUMMARY:le pipistrelle im klötzlikeller
DESCRIPTION:
URL:https://www.lepipistrelle.ch/auftritt/le-pipistrelle-im-kloetzlikeller-3/
LOCATION:Klötzlikeller\, Gerechtigkeitsgasse 62\, Bern\, 3011\, Schweiz
CATEGORIES:Fasnacht
ATTACH;FMTTYPE=image/jpeg:https://www.lepipistrelle.ch/wp-content/uploads/2026/01/DSC02932-scaled-e1768585173714.jpg
END:VEVENT
BEGIN:VEVENT
DTSTART;TZID=Europe/Berlin:20260220T203000
DTEND;TZID=Europe/Berlin:20260220T210000
DTSTAMP:20260424T134303
CREATED:20260116T180807Z
LAST-MODIFIED:20260116T180807Z
UID:2307-1771619400-1771621200@www.lepipistrelle.ch
SUMMARY:le pipistrelle im fasnachtschäller
DESCRIPTION:
URL:https://www.lepipistrelle.ch/auftritt/le-pipistrelle-im-fasnachtschaeller-5/
LOCATION:Fasnachtskeller\, Gerechtigkeitsgasse 61\, Bern\, BE\, 3011\, Schweiz
CATEGORIES:Fasnacht
ATTACH;FMTTYPE=image/jpeg:https://www.lepipistrelle.ch/wp-content/uploads/2024/03/DSC05926-scaled-e1737460891287.jpg
END:VEVENT
BEGIN:VEVENT
DTSTART;TZID=Europe/Berlin:20260220T200000
DTEND;TZID=Europe/Berlin:20260220T203000
DTSTAMP:20260424T134303
CREATED:20260116T180818Z
LAST-MODIFIED:20260116T181223Z
UID:2303-1771617600-1771619400@www.lepipistrelle.ch
SUMMARY:le pipistrelle in der brasserie ratskeller
DESCRIPTION:
URL:https://www.lepipistrelle.ch/auftritt/le-pipistrelle-in-der-brasserie-ratskeller/
LOCATION:Brasserie Ratskeller\, Gerechtigkeitsgasse 81\, Bern\, Bern
CATEGORIES:Fasnacht
ATTACH;FMTTYPE=image/jpeg:https://www.lepipistrelle.ch/wp-content/uploads/2026/01/Foto-15.02.24-17-59-28-scaled-e1768585200253.jpg
END:VEVENT
BEGIN:VEVENT
DTSTART;TZID=Europe/Berlin:20260220T150000
DTEND;TZID=Europe/Berlin:20260220T160000
DTSTAMP:20260424T134303
CREATED:20260127T160649Z
LAST-MODIFIED:20260127T161016Z
UID:2340-1771599600-1771603200@www.lepipistrelle.ch
SUMMARY:le pipistrelle im demenzzentrum wildermettpark
DESCRIPTION:
URL:https://www.lepipistrelle.ch/auftritt/le-pipistrelle-im-demenzzentrum-wildermettpark/
LOCATION:Demenzzentrum Widermettpark\, Wildermettweg 46\, Bern\, 3006\, Switzerland
CATEGORIES:Auftritt in Alters-und Pflegeheim
ATTACH;FMTTYPE=image/png:https://www.lepipistrelle.ch/wp-content/uploads/2026/01/Bildschirmfoto-2026-01-27-um-16.27.42-e1769528303256.png
END:VEVENT
BEGIN:VEVENT
DTSTART;TZID=Europe/Berlin:20260220T103000
DTEND;TZID=Europe/Berlin:20260220T110000
DTSTAMP:20260424T134303
CREATED:20260127T160737Z
LAST-MODIFIED:20260127T160737Z
UID:2343-1771583400-1771585200@www.lepipistrelle.ch
SUMMARY:le pipistrelle im burgerspittel des generationenhauses bern
DESCRIPTION:
URL:https://www.lepipistrelle.ch/auftritt/le-pipistrelle-im-burgerspittel-des-generationenhauses-bern/
LOCATION:Berner Generationen Haus\, Bahnhofplatz 2\, Bern\, 3001\, Schweiz
CATEGORIES:Auftritt in Alters-und Pflegeheim
ATTACH;FMTTYPE=image/png:https://www.lepipistrelle.ch/wp-content/uploads/2026/01/Bildschirmfoto-2026-01-27-um-16.58.19-e1769529944150.png
END:VEVENT
BEGIN:VEVENT
DTSTART;TZID=Europe/Berlin:20260219T213000
DTEND;TZID=Europe/Berlin:20260219T221500
DTSTAMP:20260424T134303
CREATED:20260116T180830Z
LAST-MODIFIED:20260116T180830Z
UID:2301-1771536600-1771539300@www.lepipistrelle.ch
SUMMARY:le pipistrelle im schnuderchäller
DESCRIPTION:
URL:https://www.lepipistrelle.ch/auftritt/le-pipistrelle-im-schnuderchaeller-8/
LOCATION:Schnuderchäller\, Postgasse 60\, Bern\, 3011\, Schweiz
CATEGORIES:Fasnacht
ATTACH;FMTTYPE=image/jpeg:https://www.lepipistrelle.ch/wp-content/uploads/2025/01/DSC02883-scaled-e1768585877589.jpg
END:VEVENT
BEGIN:VEVENT
DTSTART;TZID=Europe/Berlin:20260219T203000
DTEND;TZID=Europe/Berlin:20260219T210000
DTSTAMP:20260424T134303
CREATED:20260116T180845Z
LAST-MODIFIED:20260116T181355Z
UID:2299-1771533000-1771534800@www.lepipistrelle.ch
SUMMARY:le pipistrelle im fasnachtschäller
DESCRIPTION:
URL:https://www.lepipistrelle.ch/auftritt/le-pipistrelle-im-fasnachtschaeller-6/
LOCATION:Fasnachtskeller\, Gerechtigkeitsgasse 61\, Bern\, BE\, 3011\, Schweiz
CATEGORIES:Fasnacht
ATTACH;FMTTYPE=image/jpeg:https://www.lepipistrelle.ch/wp-content/uploads/2024/03/DSC05926-scaled-e1737460891287.jpg
END:VEVENT
BEGIN:VEVENT
DTSTART;TZID=Europe/Berlin:20260219T170000
DTEND;TZID=Europe/Berlin:20260219T183000
DTSTAMP:20260424T134303
CREATED:20260115T151711Z
LAST-MODIFIED:20260115T151711Z
UID:2289-1771520400-1771525800@www.lepipistrelle.ch
SUMMARY:le pipistrelle vernissage neues sujet 2026 mahogany hall
DESCRIPTION:
URL:https://www.lepipistrelle.ch/auftritt/le-pipistrelle-vernissage-neues-sujet-2026-mahogany-hall/
LOCATION:Mahogany Hall\, Klösterlistutz 18\, Bern\, 3013\, Schweiz
CATEGORIES:Fasnacht
ATTACH;FMTTYPE=image/png:https://www.lepipistrelle.ch/wp-content/uploads/2026/01/Bildschirmfoto-2026-01-15-um-16.13.16-e1768490141273.png
ORGANIZER;CN="le pipistrelle":MAILTO:info@lepipistrelle.ch
END:VEVENT
BEGIN:VEVENT
DTSTART;VALUE=DATE:20260219
DTEND;VALUE=DATE:20260222
DTSTAMP:20260424T134303
CREATED:20260115T150506Z
LAST-MODIFIED:20260115T150506Z
UID:2284-1771459200-1771718399@www.lepipistrelle.ch
SUMMARY:Bärner Fasnacht 2026
DESCRIPTION:Plakat von Dario Pietro Lischetti
URL:https://www.lepipistrelle.ch/auftritt/baerner-fasnacht-2026/
LOCATION:Altstadt Bern\, Nydeggstalden\, Gerechtigkeitsgasse\, Kramgasse\, Bundesplatz\, Bern\, 3011
CATEGORIES:Fasnacht
ATTACH;FMTTYPE=image/jpeg:https://www.lepipistrelle.ch/wp-content/uploads/2026/01/bernerfasnacht-26_c-scaled-e1768489089497.jpg
END:VEVENT
BEGIN:VEVENT
DTSTART;TZID=Europe/Berlin:20260213T143000
DTEND;TZID=Europe/Berlin:20260213T153000
DTSTAMP:20260424T134303
CREATED:20260127T160809Z
LAST-MODIFIED:20260127T160819Z
UID:2337-1770993000-1770996600@www.lepipistrelle.ch
SUMMARY:le pipistrelle im pflegeheim jeuss
DESCRIPTION:
URL:https://www.lepipistrelle.ch/auftritt/le-pipistrelle-im-pflegeheim-jeuss/
LOCATION:Pflegeheim Jeuss\, Galmguetweg 1\, Jeuss\, 1793\, Switzerland
CATEGORIES:Auftritt in Alters-und Pflegeheim
ATTACH;FMTTYPE=image/png:https://www.lepipistrelle.ch/wp-content/uploads/2026/01/Bildschirmfoto-2026-01-27-um-16.23.04-e1769528277162.png
END:VEVENT
BEGIN:VEVENT
DTSTART;TZID=Europe/Berlin:20250906T150000
DTEND;TZID=Europe/Berlin:20250906T160000
DTSTAMP:20260424T134303
CREATED:20250408T131214Z
LAST-MODIFIED:20250408T131354Z
UID:2260-1757170800-1757174400@www.lepipistrelle.ch
SUMMARY:le Pipistrelle auf der Rütti im Inforama
DESCRIPTION:le Pipistrelle bereichern die Geburtstagsfeier einer ehemaligen Pipistrella mit ihrem Charme\, ihrer Musik\, dem speziellen Kostüm und mit Bewegung
URL:https://www.lepipistrelle.ch/auftritt/le-pipistrelle-auf-der-ruetti-im-inforama/
LOCATION:Rütti Inforama Zollikofen\, Rütti 5\, Zollikofen\, Bern\, 3052\, Switzerland
CATEGORIES:Privatanlass
ATTACH;FMTTYPE=image/jpeg:https://www.lepipistrelle.ch/wp-content/uploads/2025/01/DSC05852-scaled-e1737534774823.jpg
END:VEVENT
BEGIN:VEVENT
DTSTART;TZID=Europe/Berlin:20250628T140000
DTEND;TZID=Europe/Berlin:20250628T170000
DTSTAMP:20260424T134303
CREATED:20250408T130216Z
LAST-MODIFIED:20250408T131319Z
UID:2257-1751119200-1751130000@www.lepipistrelle.ch
SUMMARY:le pipistrelle auf den strassen von solothurn
DESCRIPTION:Am Samstag 28. Juni 2025 sind le Pipistrelle mit Strassenmusik auf verschiedenen Plätzen in Solothurn unterwegs
URL:https://www.lepipistrelle.ch/auftritt/le-pipistrelle-auf-den-strassen-von-solothurn-2/
LOCATION:Altstadt von Solothurn
CATEGORIES:Strassenauftritt
ATTACH;FMTTYPE=image/jpeg:https://www.lepipistrelle.ch/wp-content/uploads/2024/09/Bild-e1725459814371.jpg
END:VEVENT
BEGIN:VEVENT
DTSTART;TZID=Europe/Berlin:20250308T183000
DTEND;TZID=Europe/Berlin:20250308T190000
DTSTAMP:20260424T134303
CREATED:20250122T100229Z
LAST-MODIFIED:20250122T101122Z
UID:2144-1741458600-1741460400@www.lepipistrelle.ch
SUMMARY:le pipistrelle im goldenen schlüssel
DESCRIPTION:
URL:https://www.lepipistrelle.ch/auftritt/le-pipistrelle-im-goldenen-schluessel/
LOCATION:Restaurant Goldener Schlüssel\, Rathausgasse 72\, Bern\, 3011
CATEGORIES:Fasnacht
ATTACH;FMTTYPE=image/jpeg:https://www.lepipistrelle.ch/wp-content/uploads/2024/03/DSC05844-1-scaled-e1711101905738.jpg
END:VEVENT
BEGIN:VEVENT
DTSTART;TZID=Europe/Berlin:20250308T143000
DTEND;TZID=Europe/Berlin:20250308T160000
DTSTAMP:20260424T134303
CREATED:20250122T081455Z
LAST-MODIFIED:20250122T082800Z
UID:2127-1741444200-1741449600@www.lepipistrelle.ch
SUMMARY:le pipistrelle am umzug mit nr. 7
DESCRIPTION:mit Startnummer 7
URL:https://www.lepipistrelle.ch/auftritt/le-pipistrelle-am-umzug-mit-nr-7/
LOCATION:Altstadt Bern\, Nydeggstalden\, Gerechtigkeitsgasse\, Kramgasse\, Bundesplatz\, Bern\, 3011
CATEGORIES:Fasnacht
ATTACH;FMTTYPE=image/jpeg:https://www.lepipistrelle.ch/wp-content/uploads/2024/03/DSC05858-scaled-e1737534462658.jpg
END:VEVENT
BEGIN:VEVENT
DTSTART;TZID=Europe/Berlin:20250308T103000
DTEND;TZID=Europe/Berlin:20250308T110000
DTSTAMP:20260424T134303
CREATED:20250122T083316Z
LAST-MODIFIED:20250122T083409Z
UID:2140-1741429800-1741431600@www.lepipistrelle.ch
SUMMARY:le pipistrelle ar stille fasnacht kramgasse 66 loubeboge
DESCRIPTION:
URL:https://www.lepipistrelle.ch/auftritt/le-pipistrelle-ar-stille-fasnacht-kramgasse-66-loubeboge-2/
LOCATION:Bühne Kramgasse 66\, Kramgasse 66\, Bern\, BE\, 3011\, Schweiz
CATEGORIES:Fasnacht
ATTACH;FMTTYPE=image/jpeg:https://www.lepipistrelle.ch/wp-content/uploads/2025/01/DSC05852-scaled-e1737534774823.jpg
END:VEVENT
BEGIN:VEVENT
DTSTART;TZID=Europe/Berlin:20250307T203000
DTEND;TZID=Europe/Berlin:20250307T210000
DTSTAMP:20260424T134303
CREATED:20250121T121538Z
LAST-MODIFIED:20250122T082918Z
UID:2124-1741379400-1741381200@www.lepipistrelle.ch
SUMMARY:le pipistrelle im mutzONOpotamier chäller
DESCRIPTION:zusätzlich 8. März um 21:00
URL:https://www.lepipistrelle.ch/auftritt/le-pipistrelle-im-mutzonopotamier-chaeller/
LOCATION:ONO das Kulturlokal\, Kramgasse 6\, Bern\, 30122
CATEGORIES:Fasnacht
ATTACH;FMTTYPE=image/jpeg:https://www.lepipistrelle.ch/wp-content/uploads/2024/03/DSC02852_1-1-scaled-e1737461694438.jpg
END:VEVENT
BEGIN:VEVENT
DTSTART;TZID=Europe/Berlin:20250307T200000
DTEND;TZID=Europe/Berlin:20250307T203000
DTSTAMP:20260424T134303
CREATED:20250122T095438Z
LAST-MODIFIED:20250122T101309Z
UID:2142-1741377600-1741379400@www.lepipistrelle.ch
SUMMARY:le pipistrelle im klötzlichäller
DESCRIPTION:
URL:https://www.lepipistrelle.ch/auftritt/le-pipistrelle-im-kloetzlichaeller/
LOCATION:Klötzlikeller\, Gerechtigkeitsgasse 62\, Bern\, 3011\, Schweiz
CATEGORIES:Fasnacht
ATTACH;FMTTYPE=image/jpeg:https://www.lepipistrelle.ch/wp-content/uploads/2025/01/DSC02816-scaled-e1737539631844.jpg
END:VEVENT
BEGIN:VEVENT
DTSTART;TZID=Europe/Berlin:20250306T233000
DTEND;TZID=Europe/Berlin:20250306T233000
DTSTAMP:20260424T134303
CREATED:20250121T120933Z
LAST-MODIFIED:20250122T082841Z
UID:2122-1741303800-1741303800@www.lepipistrelle.ch
SUMMARY:le pipistrelle im schwingbäsechäller
DESCRIPTION:
URL:https://www.lepipistrelle.ch/auftritt/le-pipistrelle-im-schwingbaesechaeller-6/
LOCATION:Schwingbesenkeller\, Gerechtigkeitsgasse 44\, Bern\, BE\, 3011\, Schweiz
CATEGORIES:Fasnacht
ATTACH;FMTTYPE=image/jpeg:https://www.lepipistrelle.ch/wp-content/uploads/2024/03/DSC02814-scaled-e1737533073983.jpg
END:VEVENT
BEGIN:VEVENT
DTSTART;TZID=Europe/Berlin:20250306T223000
DTEND;TZID=Europe/Berlin:20250306T230000
DTSTAMP:20260424T134303
CREATED:20250121T120524Z
LAST-MODIFIED:20250121T120524Z
UID:2119-1741300200-1741302000@www.lepipistrelle.ch
SUMMARY:le pipistrelle im fasnachtschäller
DESCRIPTION:zusätzlich 8. März um 20:00
URL:https://www.lepipistrelle.ch/auftritt/le-pipistrelle-im-fasnachtschaeller-4/
LOCATION:Fasnachtskeller\, Gerechtigkeitsgasse 61\, Bern\, BE\, 3011\, Schweiz
CATEGORIES:Fasnacht
ATTACH;FMTTYPE=image/jpeg:https://www.lepipistrelle.ch/wp-content/uploads/2024/03/DSC05926-scaled-e1737460891287.jpg
END:VEVENT
BEGIN:VEVENT
DTSTART;TZID=Europe/Berlin:20250306T213000
DTEND;TZID=Europe/Berlin:20250306T221500
DTSTAMP:20260424T134303
CREATED:20250121T115833Z
LAST-MODIFIED:20250121T121120Z
UID:2114-1741296600-1741299300@www.lepipistrelle.ch
SUMMARY:le pipistrelle im schnuderchäller
DESCRIPTION:zusätzlich 7. März 2025 um 22:15 und 8. März 2025 um 23:00
URL:https://www.lepipistrelle.ch/auftritt/le-pipistrelle-im-schnuderchaeller-6/
LOCATION:Schnuderchäller\, Postgasse 60\, Bern\, 3011\, Schweiz
CATEGORIES:Fasnacht
ATTACH;FMTTYPE=image/jpeg:https://www.lepipistrelle.ch/wp-content/uploads/2024/03/DSC03170-scaled-e1737461461760.jpg
END:VEVENT
BEGIN:VEVENT
DTSTART;TZID=Europe/Berlin:20250306T183000
DTEND;TZID=Europe/Berlin:20250306T193000
DTSTAMP:20260424T134303
CREATED:20250116T105732Z
LAST-MODIFIED:20250127T155818Z
UID:2098-1741285800-1741289400@www.lepipistrelle.ch
SUMMARY:verrückt-verspielt\, wunderbar-wild\, kunst und kultur - typisch pipistrelle eben!
DESCRIPTION:le Pipistrelle mit den leisen Tönen eröffnen im ONO die Fasnacht 2025 mit Musik und Texten zum aktuellen Sujet
URL:https://www.lepipistrelle.ch/auftritt/verrueckt-verspielt-wunderbar-wild-kunst-und-kultur-typisch-pipistrelle-eben/
LOCATION:ONO das Kulturlokal\, Kramgasse 6\, Bern\, 30122
CATEGORIES:Fasnacht,Öffentliches Konzert
ATTACH;FMTTYPE=image/jpeg:https://www.lepipistrelle.ch/wp-content/uploads/2024/03/DSC05855-scaled-e1737993483662.jpg
END:VEVENT
END:VCALENDAR